BEGIN:VCALENDAR
VERSION:2.0
PRODID:Events Booking
BEGIN:VEVENT
UID:69e6922ad21c1
SUMMARY:26. Bio Marché
DESCRIPTION:Das führende Schweizer Bio-Festival «Bio Marché» findet vom
  19. bis 21. Juni 2026 zum 26. Mal statt. Nirgendwo sonst findet der Feins
 chmecker eine solche Fülle an Bio-Spezialitäten an einem Ort. Zehntausen
 de Besucherinnen und Besucher aus dem In- und Ausland pilgern Jahr für Ja
 hr in die historische Zofinger Altstadt\, um zu degustieren\, neue Produkt
 e zu entdecken - und nicht selten\, um sich mit einem Jahresvorrat an beka
 nnten Lieblings-Spezialitäten einzudecken.
DTSTART:20260618T220000Z
DTEND:20260620T220000Z
DTSTAMP:20260312T124309Z
ORGANIZER;CN=Verein bionetz.ch:MAILTO:webmaster@bionetz.ch
END:VEVENT
END:VCALENDAR