BEGIN:VCALENDAR
VERSION:2.0
PRODID:Events Booking
BEGIN:VEVENT
UID:69e691ee81f84
SUMMARY:Bio-Ackerbautag
DESCRIPTION:Seit 2012 wird der nationale Bioackerbautag vom Forschungsinsti
 tut für biologischen Landbau FiBL\, Sativa Rheinau AG (Züchtung\, Produk
 tion und Vertrieb von Bio-Saatgut) und Bio Suisse organisiert.
LOCATION:St. Katharinental 16\, 8253 Diessenhofen TG
DTSTART:20260618T220000Z
DTEND:20260619T220000Z
DTSTAMP:20250703T143233Z
ORGANIZER;CN=Verein bionetz.ch:MAILTO:webmaster@bionetz.ch
GEO:47.689851;8.735484
X-APPLE-STRUCTURED-LOCATION;VALUE=URI;X-ADDRESS=St. Katharinental 16\, 8253
  Diessenhofen TG;X-APPLE-RADIUS=72;X-TITLE=Urban und Nadine Dörig\, Diess
 enhofen:47.689851;8.735484
END:VEVENT
END:VCALENDAR