BEGIN:VCALENDAR
VERSION:2.0
PRODID:Events Booking
BEGIN:VEVENT
UID:69e4ffc856eaa
SUMMARY:Farmer For A Day | Einführung ins Market Gardening
DESCRIPTION:Farmer For A Day bietet dir die Möglichkeit\, in die Welt des 
 Market Gardenings reinzuschnuppern und an einem Tag erste praktische Erfah
 rungen auf unserer Farm zu sammeln.
LOCATION:Schlossgasse 10\, 8428 Teufen (ZH)
DTSTART:20260509T073000Z
DTEND:20260509T141500Z
DTSTAMP:20260126T135951Z
ORGANIZER;CN=Verein bionetz.ch:MAILTO:webmaster@bionetz.ch
GEO:47.544083;8.573843
X-APPLE-STRUCTURED-LOCATION;VALUE=URI;X-ADDRESS=Schlossgasse 10\, 8428 Teuf
 en (ZH);X-APPLE-RADIUS=72;X-TITLE=Tiny Farm Teufen:47.544083;8.573843
END:VEVENT
END:VCALENDAR