BEGIN:VCALENDAR
VERSION:2.0
PRODID:Events Booking
BEGIN:VEVENT
UID:69e6aac95c2cd
SUMMARY:Farmer For A Day | Introduction to Market Gardening (in English)
DESCRIPTION:A day on the Tiny Farm: Farmer For A Day offers you the opportu
 nity to get a taste of the world of market gardening and gain your first p
 ractical experience on our farm in just one day.
LOCATION:Schlossgasse 10\, 8428 Teufen (ZH)
DTSTART:20260821T073000Z
DTEND:20260821T141500Z
DTSTAMP:20260126T135627Z
ORGANIZER;CN=Verein bionetz.ch:MAILTO:webmaster@bionetz.ch
GEO:47.544083;8.573843
X-APPLE-STRUCTURED-LOCATION;VALUE=URI;X-ADDRESS=Schlossgasse 10\, 8428 Teuf
 en (ZH);X-APPLE-RADIUS=72;X-TITLE=Tiny Farm Teufen:47.544083;8.573843
END:VEVENT
END:VCALENDAR