BEGIN:VCALENDAR
VERSION:2.0
PRODID:Events Booking
BEGIN:VEVENT
UID:69e671a9ceaa0
SUMMARY:Gemüse-Masteclass und Tavolata im Schlossgarten
DESCRIPTION:Die Tiny Farms Academy und Esther Kern laden am 6. Juni 2026 zu
  einem Event auf dem Schloss Teufen. Der Event findet im Rahmen der Genuss
 region Zürich statt.
LOCATION:Schlossgasse 10\, 8428 Teufen (ZH)
DTSTART:20260606T133000Z
DTSTAMP:20260420T130742Z
ORGANIZER;CN=Verein bionetz.ch:MAILTO:webmaster@bionetz.ch
GEO:47.544083;8.573843
X-APPLE-STRUCTURED-LOCATION;VALUE=URI;X-ADDRESS=Schlossgasse 10\, 8428 Teuf
 en (ZH);X-APPLE-RADIUS=72;X-TITLE=Tiny Farm Teufen:47.544083;8.573843
END:VEVENT
END:VCALENDAR