BEGIN:VCALENDAR
VERSION:2.0
PRODID:Events Booking
BEGIN:VEVENT
UID:69e5337e84c95
SUMMARY:Intensiv-Seminar regenerativer Gemüsebau 2026
DESCRIPTION:10 tägiger Kurs (2 x 4 Tage &amp\; 2 x 1 Tag) - Entdecke innov
 ative Methoden für regenerativen Gemüsebau!
 Melde dich jetzt für die 
 zweite Ausgabe des Intensiv-Seminars an. Es richtet sich an Praktiker:inne
 n und Betriebsleitende aller Betriebsgrössen\, die regenerative Anbaumeth
 oden erlernen oder ihren Betrieb schrittweise umstellen möchten und an Be
 rater:innen welche einen Einstieg in den regenerativen Gemüsebau suchen.
DTSTART:20260112T230000Z
DTEND:20260709T220000Z
DTSTAMP:20250828T053251Z
ORGANIZER;CN=Verein bionetz.ch:MAILTO:webmaster@bionetz.ch
END:VEVENT
END:VCALENDAR