BEGIN:VCALENDAR
VERSION:2.0
PRODID:Events Booking
BEGIN:VEVENT
UID:69e52e5b74926
SUMMARY:Tiny Farms Academy
DESCRIPTION:Entdecke die Tiny Farms Academy 2026 – Deine 9-monatige Lernr
 eise in das Tiny Farming!
 Tauche ein in die Welt des biointensiven Gemü
 seanbaus mit der Tiny Farms Academy. Dieser umfassende 9-monatige Kurs (vo
 n März bis November 2026) verbindet praktisches Gärtnern auf unserer Tin
 y Farm in Teufen und theoretischen Input in Online-Sessions\, um dich opti
 mal auf dein gärtnerisches Projekt vorzubereiten.
LOCATION:Schlossgasse 10\, 8428 Teufen (ZH)
DTSTART:20260316T170000Z
DTEND:20261109T183000Z
DTSTAMP:20260122T164741Z
ORGANIZER;CN=Verein bionetz.ch:MAILTO:webmaster@bionetz.ch
GEO:47.544083;8.573843
X-APPLE-STRUCTURED-LOCATION;VALUE=URI;X-ADDRESS=Schlossgasse 10\, 8428 Teuf
 en (ZH);X-APPLE-RADIUS=72;X-TITLE=Tiny Farm Teufen:47.544083;8.573843
END:VEVENT
END:VCALENDAR